Workbook

Sheet Overview
B2: About Sweef Capital
B3: Sweef Capital Management Pte. Ltd. (Sweef) is a women-led investment fund management firm that focuses on gender equality and diversity as a lens for identification of opportunities and a value driver of investment and company performance. Sweef is a leader in developing impact frameworks, tools and management systems to ground its investment approach and impact management and is globally recognised for its thought leadership in gender equality and diversity. With impact at the heart of its work, Sweef Capital developed a tool that will establish an evidence base on the important linkages between gender equality and diversity, financial and social impact, and business and investment performance, as well as for benchmarking to occur across industries, countries and regions.
B5: Sweef Capital Gender ROI™
B6: The Sweef Capital Gender ROI™ ("Gender ROI™") is a diagnostic measurement and management tool that is designed to support entrepreneurs, investment and development finance practitioners to assess the gender equality and diversity performance of companies, informing both practice and performance in addressing inequalities, while highlighting significant opportunities to improve outcomes for women and girls. The tool comprises of 24 quantitative and qualitative indicators applied across the intersectionality of the enterprise dimensions of Leadership, Workforce, Value Chains, as well as through Society and Outcome Pillars of Resilience, Opportunity, and Inclusion. The assessment identifies gaps, determining appropriate actions and interventions applied at the enterprise level which are focused on delivering outcomes that support women’s economic empowerment. By applying different levers of change across the enterprise dimensions targeting women’s economic and social roles, contributions, and constraints and vulnerabilities, women’s economic empowerment is demonstrated through 3 Outcome Pillars - Resilience, Opportunities and Inclusion. The Outcome Pillars are goalposts for women’s economic empowerment which involve addressing the need for women’s participation in gainful employment and to be in a position of influence and decision making, as well as ensuring equal access to opportunities for women’s participation and advancement, and safeguarding women’s well-being through safety nets and protection, thereby addressing gender norms and biases. These are also the key tenets in building strong and reslitient companies to meet the challenges the dynamic business environment of today. Each stakeholder has a role to play; they are mutually beneficial and should be seen as a collective engine of sustainable and inclusive development.
B7: Resilience - Women’s economic empowerment builds individual and business resiliency
B8: The linkages are strong: empowering women means building resilience at the individual, enterprise, and community levels. Women’s engagement in decent work and opportunities for progression improve their economic empowerment, which helps build resilient organisations and communities. An intentional push to include women at every level of the organisation where their voices can be heard contributes to an environment in which all employees can thrive, enabling a multiplier effect in social and economic impacts. Women possess unique qualities that are well integrated into core resilience competencies in areas such as business continuity, disaster recovery, incident management, physical security, threat intelligence, and emergency response.
B9: Opportunities - Equal access to opportunities is necessary to ensure absolute empowerment
B10: Women’s economic empowerment will not be absolute if women are not provided equal access to opportunities that allow them to become economically active, have choice and mobility in the workforce and advance to leadership and decision-making positions. Women’s inclusion in governance and leadership positions within businesses is critical given the ways in which the private sector creates jobs, produces growth and impacts economic, social, environmental and cultural aspects of life. Within the sphere of its influence, an enterprise can promote and inspire women’s economic empowerment through its value chains.
B11: Inclusion - Addressing barriers that constrain women’s employment and advancement
B12: Ingrained in social and cultural systems are barriers that constrain women in reaching their full potentials. Women’s economic participation is hugely influenced by factors such as healthcare needs, unpaid care responsibilities, gender-based violence and low-wage or temporary employment. It is not enough for women to be gainfully employed but to fully realise women’s economic empowerment, social protection schemes that factor existing barriers needs to be in place to ensure their continued employment and advancement. Workplace culture also has a profound impact on women remaining employed and advancing in an organisation. Leaders set the tone through their actions and decisions.
B14: Gender lens investing ecosystem development
B15: Sweef Capital developed the tool to generate large datasets, enable gender analysis and form deep gender insights. These datasets will support academic research to validate the linkages between gender equality and diversity and financial and social impact, with business and investment performance, as well as benchmarking to occur across industries, countries, and regions. Developing the gender lens knowledge base through frameworks, tools, metrics, standards, and best practices facilitates the mainstreaming of gender lens investing as an investment strategy across a broad spectrum of investors. Building a best practices library that can be shared across different stakeholders to support gender interventions underpins the development of a gender lens investing ecosystem.
... B20: Disclaimers: Not for wider distribution during pilot test without permission from Sweef Capital.

Sheet Instructions
B2: Who can use the tool?
B3: The Gender ROI™ tool is designed for investors, financial advisors, and intermediaries, researchers, regulatory agencies and government policymakers, development agencies, foundations, and private sector companies to guide them in addressing gender equality and diversity within their organisations and portfolio companies.
B5: The tool aims to strengthen institutional and individual capacities in mainstreaming gender equality and diversity by addressing the roots of inequality in policy and practice, the norms, stereotypes, and barriers facing women that constrain their participation and progression in gainful employment. The diagnostic tool informs gender gaps and enables the formulation of strategies for addressing gender gaps suitable for different types of enterprises.
B7: How to use the tool?
B8: The tool captures 24 qualitative and quantitative indicators set out in the excel worksheets. The quantitative indicators use pre-set formulas and qualitative indicators are measured using guide questions suitable for micro, small and medium, and large enterprises to assess existing policies and practices. For purposes of the Gender ROI™, the definition set by International Finance Corporation has been adopted.
B10: Type of enterprise | C10: Employees
B11: Micro enterprise | C11: < 10
B12: Small and medium enterprise | C12: 10 - 300
B13: Large enterprise | C13: > 301
B15: The assessment will result in an overall score which sets the baseline assessment and informs gender action plans with the aim to improve scoring through periodic assessments. Gender action plans identify the gender gaps and the mitigating action to be undertaken by enterprises. Periodic assessments will track progress on gender action plans.
B17: The quantitative indicators are found in the worksheets "Quantitative Info" and "Employee Info" which will compute the following indicators: "Women business ownership", "Senior management representation", "Middle management representation", "Gender wage equity", "Workforce participation", "Top 10 employees by compensation", "Women’s turnover ratio", " Women in part-time and temporary employment", and "Compensation ratio for women hourly workers". Each quantitative indicator will be computed subject to a scoring scale. The qualitative indicators are presented in individual worksheets.
B19: What is the scoring methology?
B20: The Gender ROI™ provides an overall score based on 24 quantitative and qualitative gender indicators, equally weighted across the Resilience, Opportunity, and Inclusion Outcome Pillars through the Dimensions of Leadership, Workforce, Value Chains, and Society. Each indicator is scored on a 5-point scale from 1 = ‘we need to talk’ to 5 = ‘leading practice’. With respect to the qualitative indicators, each dimension represents a score of 1 point and a bonus point of 1 is given to enterprises demonstrating all policies and practices beyond the minimum threshold established for micro, small and medium, and large enterprises. If the enterprise is meeting some of the best practices policies and practices, a partial credit will be awared.
B22: Quantitative indicators
B23: Quantitative gender indicators will be subject to a scoring scale to evaluate performance as provided in Figure 1.
B24: Figure 1: Example of scoring scale
B25: Qualitative indicators
B26: Each of the qualitative indicators will be evaluated by answering a series of guide questions through across the following dimensions:
B27: ● Commitment: a company has either:
B28: o a tacit commitment to the issue, but this policy, strategy or its associated practices are not formally documented, or
B29: o a formal commitment– this may be written down in a documented commitment or policy statement or integrated into wider organisational policies or strategies.
... B37: For each dimension, there is an established minimum threshold of policies and practices applicable for each micro, small and medium, and large enterprises. The guide questions also sets out best practices for enterprises to use as benchmark for improving policy formulation and implementation.

Sheet Overall Scoring
C4: Sweef Capital Gender ROI™
B6: Name of Company
D8: Reference | E8: Relevancy | F8: Score
B9: Sweef Capital Gender ROI™ | D9: =CONCATENATE(B9," : ",TEXT(F9,"0.00")) -> Sweef Capital Gender ROI™ : 1.53 | F9: =AVERAGE(F11,F20,F29) -> 1.5263889
B11: Resilience | F11: =IFERROR(AVERAGE(F12:F19),0) -> 0
B12: Leadership | C12: Women business ownership | D12: Sheet: Quantitative info | F12: ='1. Quantitative info'!F24 -> 5
C13: Senior management representation | D13: Sheet: Quantitative info | F13: ='1. Quantitative info'!D46 -> 5
B14: Workforce | C14: Middle management representation | D14: Sheet: Quantitative info | F14: ='1. Quantitative info'!D83 -> 5
C15: Gender wage equity | D15: Sheet: Employee info | F15: ='2. Employee Info'!H12 -> 5
C16: Workforce participation | D16: Sheet: Employee info | F16: ='2. Employee Info'!H24 -> 5
B17: Value Chains | C17: Gender disaggregatd data in supply chains | D17: Sheet: Gender data in supply chains | F17: ='6. Disagg Data Supply Chains'!D46 -> 2.2
C18: Gender disaggregated data in value chains | D18: Sheet: Gender data in value chains | F18: ='7. Disagg Data Value Chains'!D41 -> #DIV/0!
B19: Society | C19: Addressing climate risks | D19: Sheet: Addressing climate risks | F19: ='8. Climate risks'!D52 -> 4.6
B20: Opportunity | F20: =IFERROR(AVERAGE(F21:F28),0) -> 0
B21: Leadership | C21: Performance evaluation and progression | D21: Sheet: Performance evaluation and progreession | F21: ='9. Performance evaluation'!D45 -> 4.1333333
C22: Top 10 employees by compensation | D22: Sheet: Employee info | F22: ='2. Employee Info'!H37 -> 5
B23: Workforce | C23: Gender diversity in recruitment | D23: Sheet: Diversity in recruitment | F23: ='11. Gender diversity in recruit'!D54 -> 4.8722222
C24: Gender lens in policies and strategies | D24: Sheet: Gender lens in policies and strategies | F24: ='12. Gender lens in policies'!D52 -> 4.2666667
C25: Professional development, networking, and mentoring | D25: Sheet: Professional development, networking and mentoring | F25: ='13. Professional Dev''t, network'!D47 -> 4.5666667
B26: Value Chains | C26: Gender responsive procurement | D26: Sheet: Gender responsive procurement | F26: ='14. Gender resp procurement'!D49 -> #DIV/0!
C27: Gendered approach to value chains | D27: Sheet: Gendered approach to value chains | F27: ='15. Gendered value chai'!D47 -> 5.8
B28: Society | C28: Community engagement through CSR initiatives | D28: Sheet: Community engagement through CSR initiatives | F28: ='16. CSR'!D47 -> 5.4666667
B29: Inclusion | F29: =IFERROR(AVERAGE(F30:F37),0) -> 4.5791667
B30: Leadership | C30: Inclusive health insurance policies | D30: Sheet: Inclusive health insurance policies | F30: ='17. Inclusive health insurance'!D48 -> 5.8
C31: Survivor-centered prevention and response to gender-based violence and harassment | D31: Sheet: Survivor cantered prevention and response to gender-based violence and harassment | F31: ='18. Survivor centered prevent'!D59 -> 4.5666667
B32: Workforce | C32: Women workforce participation support policies | D32: Sheet: Women workforce participation support policies | F32: ='19. Women workforce support pol'!D63 -> 5.8
C33: Women’s turnover ratio | D33: Sheet: Employee info | F33: ='2. Employee Info'!H48 -> 3
C34: Women in part-time and temporary employment | D34: Sheet: Employee info | F34: ='2. Employee Info'!H58 -> 3
B35: Value Chains | C35: Compensation ratio for women hourly workers | D35: Sheet: Employee info | F35: ='2. Employee Info'!H81 -> 3
C36: Fair treatment of part-time and temporary workers | D36: Sheet: Fair treatment of part-time and temporary workers | F36: ='23. Fair treatment pt workers '!D47 -> 6
B37: Society | C37: Gender equality beyond workplace | D37: Sheet: Gender equality beyond workplace | F37: ='24. GE Beyond Workplac'!D54 -> 5.4666667
D44: =C6&"'s "&D9 -> 's Sweef Capital Gender ROI™ : 1.53
B73: Resillience | C73: Women business ownership | D73: =F12 -> 5
B74: Resillience | C74: Senior management representation | D74: =F13 -> 5
B75: Resillience | C75: Middle management representation | D75: =F14 -> 5
B76: Resillience | C76: Gender wage equity | D76: =F15 -> 5
B77: Resillience | C77: Workforce participation | D77: =F16 -> 5
B78: Resillience | C78: Gender disaggregatd data in supply chains | D78: =F17 -> 2.2
B79: Resillience | C79: Gender disaggregated data in value chains | D79: =F18 -> #DIV/0!
B80: Resillience | C80: Addressing climate risks | D80: =F19 -> 4.6
...

Sheet Crosswalk
A1: SurveyID | B1: Survey Mod | C1: Number | D1: Survey Question | E1: BLE
A2: BusOwn1 | B2: 2 | C2: 1 | D2: Formula (Hidden) Field: % of shares owned by women over the TOTAL number of shares
A3: BusOwn2 | B3: 2 | C3: 2 | D3: What is the total number of authorized shares for this enterprise?
A4: BusOwn3 | B4: 2 | C4: 3 | D4: What is the total number of authorized shares held by women for this enterprise?
A5: BusOwn4 | B5: 2 | C5: 4 | D5: Was your enterprise founded by a woman or group of women (majority founders)?
A6: BusOwn5 | B6: 2 | C6: 5 | D6: Does the female founder maintain an active role in the enterprise?
A7: BusOwn6 | B7: 3 | C7: 6 | D7: How many Board members are there?
A8: BusOwn7 | B8: 3 | C8: 7 | D8: How many women Board members are there?
A9: BusOwn8 | B9: 2 | C9: 8 | D9: Formula (Hidden) Field: % of women board members
A10: ClimRisk1 | B10: 15 | C10: 1 | D10: Is the enterprise evaluating the effects of its operations on the environment? | E10: Change to: "Does the enterprise evaluate the effects of its operations on the environment including the sustainable use and sourcing of materials, energy and water?"
A11: ClimRisk10 | B11: 15 | C11: 10 | D11: Does the enterprise encourage its employees to contribute to climate action and provide the necessary training?
A12: ClimRisk11 | B12: 15 | C12: 11 | D12: Is the enterprise improving its access to technology to attain energy efficiency and co-benefits as part of its decarbonised action plan? | E12: Change to: "Does the enterprise improve its access to technology to attain energy efficiency and co-benefits as part of its decarbonised action plan?"
A13: ClimRisk12 | B13: 15 | C13: 12 | D13: Is the enterprise initiating dialogue with selected suppliers to understand their current/planned climate goals and encourage them to halve emissions before 2030 and achieve net zero emissions before 2050, as part of their engagement? | E13: Change to: "Does the enterprise initiate dialogue with selected suppliers to understand their current or planned climate goals and encourage them to halve emissions before 2030 and achieve net zero emissions before 2050, as part of their engagement?"
A14: ClimRisk13 | B14: 15 | C14: 13 | D14: Is the enterprise tracking the progress of its energy efficiency, recycling and waste management projects? | E14: Change to: "Does the enterprise set goals and measure the progress of its energy efficiency, recycling and waste management projects?"
A15: ClimRisk14 | B15: 15 | C15: 14 | D15: Is the enterprise identifying, assessing and managing its climate risks e.g. physical and transition risks? | E15: Change to: "Does the enterprise identify, assess and manage its climate risks e.g. physical and transition risks?"
A16: ClimRisk15 | B16: 15 | C16: 15 | D16: Is the enterprise tracking its GHG emissions and progress against the targets it has set for accountability and tracking? | E16: Change to: "Does the enterprise track its GHG emissions and progress against targets for accountability and tracking? "
A17: ClimRisk16 | B17: 15 | C17: 16 | D17: Does the enterprise align performance targets and/or bonuses with environmental and sustainability key performance indicators? | E17: Change to: "Does the enterprise align performance targets and bonuses with environmental and sustainability performance indicators? "
A18: ClimRisk17 | B18: 15 | C18: 17 | D18: Does the enterprise measure work-from-home emissions? | E18: Change to: "Does the enterprise measure the emissions of employees when they are working remotely at home or outside the office?"
A19: ClimRisk18 | B19: 15 | C19: 18 | D19: Has the enterprise set a climate/environmental strategy and set to move to action? | E19: Change to: "Has the enterprise set a climate or environmental strategy?"
A20: ClimRisk19 | B20: 15 | C20: 19 | D20: Has management assigned a person to oversee the implementation and monitoring of its environmental policies? | E20: Change to: "Is there an individual responsible for overseeing the implementation and monitoring of its environmental policies?"
A21: ClimRisk2 | B21: 15 | C21: 2 | D21: Has the enterprise NOT been cited for any environmental violations?
A22: ClimRisk20 | B22: 15 | C22: 20 | D22: Does the enterprise consider climate change as a business risk and actively mitigates it to gain competitive advantage? | E22: Change to: "Does the enterprise consider climate change as a business risk and actively mitigate it to gain competitive advantage? "
A23: ClimRisk21 | B23: 15 | C23: 21 | D23: Does the enterprise collaborate with a broad range of stakeholders outside of normal scope of business operations to support a systematic approach towards decarbonisation and other climate action? | E23: Change to: "Does the enterprise collaborate with a broad range of stakeholders outside of its normal scope of business operations – such as peers, NGOs, customers, governments, academia – to support a systematic approach to decarbonisation and other climate action?"
A24: ClimRisk3 | B24: 15 | C24: 3 | D24: Does the enterprise comply with existing environmental policy and undertake initiatives beyond what is required by laws and regulations?
A25: ClimRisk4 | B25: 15 | C25: 4 | D25: Does the enterprise communicate its policy and outcomes to all employees and other stakeholders? | E25: Change to: "4. Does the enterprise communicate its climate policy and outcomes to all employees, suppliers, and other stakeholders?"
A26: ClimRisk5 | B26: 15 | C26: 5 | D26: Does the enterprise practice waste management and recycling in its operations? | E26: Change to: "Does the enterprise practise waste management and recycling in its operations?"
A27: ClimRisk6 | B27: 15 | C27: 6 | D27: Does the enterprise pursue energy efficiency projects such as the use of LED, smart meter, electric vehicle fleet? | E27: Change to: "Does the enterprise pursue energy efficiency projects such as using LED, smart meter, electric vehicle fleet and other energy saving devices?" Include Micro orgs as well
A28: ClimRisk7 | B28: 15 | C28: 7 | D28: Does the enterprise have a policy to continuously assess climate risks regarding its potential adverse impact?
A29: ClimRisk8 | B29: 15 | C29: 8 | D29: Is the enterprise including climate considerations into ongoing business interactions with suppliers? | E29: Change to: "Does the enterprise include climate considerations in ongoing business interactions with suppliers?"
A30: ClimRisk9 | B30: 15 | C30: 9 | D30: How do the products or services of the enterprise affect climate and environmental sustainability? | E30: Change to: "How do the enterprise’s products or services affect climate and environmental sustainability (contributing to mitigation, adaptation, resilience or just transition)?"
A31: CommunityCSR1 | B31: 16 | C31: 1 | D31: Does the enterprise have any CSR initiatives that benefit both genders? | E31: Change to: "Does the enterprise have any CSR initiatives that explicitly or intentionally benefit the unique needs of both women and men?" >use skip logic for other questions as proposed
A32: CommunityCSR10 | B32: 16 | C32: 10 | D32: Does the enterprise involve men and women equally when preparing and implementing its CSR strategy? | E32: Remove micro, Change to: "Does the enterprise prioritize creating a gender diverse team that is responsible for preparing and implementing its CSR strategy?"
A33: CommunityCSR11 | B33: 16 | C33: 11 | D33: Has the enterprise made appropriate budget allocations for its CSR projects?
A34: CommunityCSR12 | B34: 16 | C34: 12 | D34: Does the enterprise measure the impact of its activities, including number of beneficiaries by gender and other KPIs? | E34: Remove for Micro, Change to: "Does the enterprise measure the impact of its activities, including number of participants by gender and other KPIs?"
A35: CommunityCSR13 | B35: 16 | C35: 13 | D35: Does the enterprise employ recognized industry-standard measures to CSR activities?
A36: CommunityCSR14 | B36: 16 | C36: 14 | D36: Does the enterprise collect feedback from its beneficiaries and employees participating in these initiatives? | E36: Remove for Micro, change to: "Does the enterprise collect feedback from program participants and employees to improve future programs?"
A37: CommunityCSR15 | B37: 16 | C37: 15 | D37: Is there buy-in of CSR initiatives from senior leadership and employees? | E37: Remove for Micro
A38: CommunityCSR16 | B38: 16 | C38: 16 | D38: Does the enterprise have a formal/informal assessment of its CSR work by its target beneficiaries? | E38: Change to: "Do target participants formally or informally assess the enterprise’s CSR work?"
A39: CommunityCSR17 | B39: 16 | C39: 17 | D39: Does the enterprise ensure transparency in its progress towards its communicated CSR goals?
A40: CommunityCSR2 | B40: 16 | C40: 2 | D40: Are the CSR objectives aligned with enterprise strategic goals and values? | E40: Change to: "Does the enterprise align CSR objectives with strategic goals and values? " Remove Micro
...

Sheet 0. Financial Outcomes
B3: Financial Indicator | C3: Baseline assesment | D3: 2024Q1 | E3: Period 2 | F3: Period 3 | G3: Period 4 | H3: Period 5
B4: Date
B5: Revenues
B6: EBITDA
B7: Net income
B11: Definitions:
B12: Based on revenues net of returns, discounts and other charges, as measured by percentage change
B13: EBITDA means earnings before interest, taxes, depreciation and amortisation, as measured by percentage change
B14: Net income, also called net earnings, is calculated as sales minus cost of goods sold, selling, general and administrative expenses, operating expenses, depreciation, interest, taxes, and other expenses.

Sheet 1. Quantitative info
B2: Company Type | C2: ='2. Employee Info'!O19 -> Microenterprise
A4: 1 | B4: Women business ownership
B6: Name of shareholders | C6: Type of shareholding | D6: Gender | E6: % ownership | F6: Score | H6: Score scale
B7: Person 1 | C7: majority | D7: Female | E7: 0.98
B8: Person 2 | C8: minority | D8: Male | E8: 0.0025 | H8: We need to talk | I8: 0 | J8: 1
B9: Person 3 | C9: minority | D9: Male | E9: 0.0175 | H9: More work to do | I9: 1% to 10% | J9: 2
H10: Getting there! | I10: 11% to 25% | J10: 3
H11: Advancing to role model | I11: 26% to 45% | J11: 4
H12: Role model | I12: > 45% | J12: 5
H14: Women Board members | I14: 3
H15: Total Board members | I15: 6
H16: Women's representation on Board | I16: =I14/I15 -> 0.5
B20: Total business ownership | E20: =SUM(E7:E19) -> 1 | H20: Shared owned by women | I20: 450
B21: Total women business ownership | E21: =SUMIF(D7:D19,"Female",E7:E19) -> 0.98 | H21: Total Shares | I21: 1000
H22: Total women business ownership | I22: =E24 -> 0.98
B23: Total business ownership | E23: =E20 -> 1
B24: Total women business ownership | E24: =SUMIF(D7:E9,"Female",E7:E9) -> 0.98 | F24: 5
A26: 2 | B26: Senior management representation
B28: Name of shareholders | C28: Gender | D28: Score | H28: Score scale
H29: We need to talk | I29: 0 | J29: 1
B30: Shareholder 1 | C30: Female | H30: More work to do | I30: 1% to 10% | J30: 2
B31: Shareholder 2 | C31: Female | H31: Getting there! | I31: 11% to 25% | J31: 3
B32: Shareholder 3 | C32: Female | H32: Advancing to role model | I32: 26% to 45% | J32: 4
B33: Shareholder 4 | C33: Female | H33: Role model | I33: > 45% | J33: 5
B44: Total number of women in senior management | C44: =COUNTIF(C30:C42,"Female") -> 4
B45: Total number of employees in senior management | C45: =COUNTA(C30:C43) -> 4
B46: Senior management representation | C46: =C44/C45 -> 1 | D46: 5
A49: 3 | B49: Women's middle management representation
B51: Name of shareholders | C51: Gender | D51: Score | H51: Score scale
H52: We need to talk | I52: 0 | J52: 1
H53: More work to do | I53: 1% to 10% | J53: 2
H54: Getting there! | I54: 11% to 25% | J54: 3
H55: Advancing to role model | I55: 26% to 45% | J55: 4
H56: Role model | I56: > 45% | J56: 5
B81: Total number of women in middle management | C81: =COUNTIF(C52:C80,"Female") -> 0
B82: Total number of employees in middle management | C82: =COUNTA(C52:C80) -> 0
B83: Senior management representation | C83: =C81/C82 -> #DIV/0! | D83: 5

Sheet 2. Employee Info
A2: 4 | B2: Gender wage equity
B4: Gender Wage Equity | C4: Last twelve months average salary for salaried employees (women)
C5: Last twelve months average salary for salaried employees (men)
D7: Female | E7: Male | F7: Total | G7: Ratio | H7: Score | J7: Score scale
B8: Senior manager | F8: 20961155 | J8: We need to talk | K8: 0 to 60% | L8: 1
B9: Manager | D9: 27150000 | E9: 21500000 | F9: 12564950 | J9: More work to do | K9: 61% to 75% | L9: 2
B10: Employee | D10: 7500000 | F10: 5322714 | J10: Getting there | K10: 76% to 85% | L10: 3
J11: Advancing to role model | K11: 86% to 95% | L11: 4
B12: Total | D12: =SUM(D8:D10) -> 34650000 | E12: =SUM(E8:E10) -> 21500000 | F12: =SUM(D12:E12) -> 56150000 | G12: =D12/E12 -> 1.6116279 | H12: 5 | J12: Role model | K12: > 95% | L12: 5
A14: 5 | B14: Women workforce participation
B16: Women workforce participation | C16: Last twelve months number of women salaried employees
C17: Last twelve months total number of salaried employees
D19: Female | E19: Male | F19: Total | G19: Ratio | H19: Score | J19: Score scale | N19: Company size | O19: {=_xlfn.IFS(F22<10,N20,F22>300,N22,F22>10,N21)} -> Microenterprise
B20: Senior manager | F20: =SUM(D20,E20) -> 0 | G20: =D20/F20 -> #DIV/0! | J20: We need to talk | K20: 0 to 10%, 91% to 100% | L20: 1 | N20: Microenterprise
B21: Manager | D21: 2 | E21: 3 | F21: =SUM(D21,E21) -> 5 | G21: =D21/F21 -> 0.4 | J21: More work to do | K21: 11% to 20%, 81% to 90% | L21: 2 | N21: Small and medium
B22: Employee | D22: 1 | F22: =SUM(D22,E22) -> 1 | G22: =D22/F22 -> 1 | J22: Getting there! | K22: 21% to 30%, 71% to 80% | L22: 3 | N22: Large
J23: Advancing to role model | K23: 31% to 40%, 61% to 70% | L23: 4
B24: Women workforce participation | D24: =SUM(D20:D22) -> 3 | E24: =SUM(E20:E22) -> 3 | F24: =D24+E24 -> 6 | G24: =D24/F24 -> 0.5 | H24: 5 | J24: Role model | K24: 41% to 60% | L24: 5
A26: 6 | B26: Women representation in top 10% employees by compensation
B28: Women representation in top 10% employees by compensation | C28: Number of women in top 10% compensated employees (last twelve months total compensation) | H28: 8
C29: Number of men in top 10% compensated employees (last twelve months total compensation) | H29: 6
D31: Female | E31: Male | F31: Total | G31: Ratio | H31: Score | J31: Score scale
B32: CEO | D32: 250000 | J32: We need to talk | K32: 0 to 60% | L32: 1
B33: COO | E33: 200000 | J33: More work to do | K33: 61% to 75% | L33: 2
B34: CFO | D34: 190000 | J34: Getting there! | K34: 75% to 85% | L34: 3
B35: Head of HR | E35: 175000 | J35: Advancing to role model | K35: 86% to 95% | L35: 4
J36: Role model | K36: >95% | L36: 5
B37: Top 10 employees by compensation | D37: =COUNTA(D32:D36) -> 2 | E37: =COUNTA(E32:E36) -> 2 | F37: =SUM(D37+E37) -> 4 | G37: =D37/E37 -> 1 | H37: 5
A40: 7 | B40: Women's turnover ratio
B42: Women's turnover ratio | C42: (Last twelve months number of women (separated)/(Last twelve months average number of women employees) | J42: Score scale
C43: (Last twelve months number of men (separated)/(Last twelve months average number of men employees) | J43: We need to talk | K43: >150% | L43: 1
J44: More work to do | K44: 131% to 150% | L44: 2
B45: Last twelve months number of women separated | C45: 0 | D45: Last twelve months average number of women employees | H45: 0 | J45: Getting there! | K45: 116% to 130% | L45: 3
B46: Last twelve months number of men separated | C46: 0 | D46: Last twelve months average number of men employees | H46: 0 | J46: Advancing to role model | K46: 106% to 115% | L46: 4
J47: Role model | K47: <105% | L47: 5
B48: Women's turnover ratio | C48: =((C45/H45)/(C46/H46)) -> #DIV/0! | D48: =SUM(D43:D46) -> 0 | E48: =SUM(E43:E46) -> 0 | G48: Score | H48: 3
A50: 8 | B50: Women in part-time and temporary workforce
B52: Women’s Percentage of Part-time and Temporary Employees | C52: (Last twelve months number of part-time or temporary women employees) | J52: Score scale
C53: (Last twelve months number of part-time or temporary employees) | J53: We need to talk | K53: 0 to 10%, 91% to 100% | L53: 1
J54: More work to do | K54: 11% to 20%, 81% to 90% | L54: 2
...

Sheet 6. Disagg Data Supply Chains
A2: 17 | B2: Gender-disaggregated data in supply chains
B3: Instruction: The indicator is assessed on the basis of the 5 dimensions of Commitment, Communication, Implementation, Measurement and Accountability and Transparency. A minimum threshold is set for each dimension assigned for micros, small and medium, and large enterprises. Each question has been provided with the following response options depending on the demonstration of policy and practice.
B4: Answer key | C4: Description
B5: 0 | C5: No
B6: 1 | C6: Informal/ad-hoc/in draft
B7: 2 | C7: Adopted but not fully implemented or operationalised
B8: 3 | C8: Fully operationalised and systematically done
B10: The following guide questions can be used to identify business policies and practices that use gender disaggregated data in an enterprise's supply chains. Practitioners should use appropriate judgment in determining suitable questions in view of local contexts and global aspirations.
B11: Commitment | D11: Baseline assessment | E11: Period 1 | F11: Period 2 | G11: Period 3 | H11: Period 4 | I11: Period 5 | J11: Micro-enterprise threshold | K11: Small and medium enterprise threshold | L11: Large enterprise threshold
B12: 1. Does the enterprise have a policy on diversity of its supply chains for the purposes of risk management and business resiliency? | D12: 1 | J12: X | K12: X | L12: X
B13: 2. Does the enterprise prioritize women entrepreneurs in its supply chains as demonstrated through policies and procedures? | D13: 1 | K13: X | L13: X
B14: 3. Does the enterprise ensure gender equality and diversity in supply chains by collecting and analyzing gender-disaggregated data about suppliers? | D14: 0 | L14: X
B15: No of threshold question | D15: {=_xlfn.IFS('2. Employee Info'!O19='2. Employee Info'!N20,J15,'2. Employee Info'!O19='2. Employee Info'!N21,K15,'2. Employee Info'!O19='2. Employee Info'!N22,L15)} -> 1 | J15: =COUNTA(J12:J14) -> 1 | K15: =COUNTA(K12:K14) -> 2 | L15: =COUNTA(L12:L14) -> 3
B16: Score | D16: {=MIN(6,SUM((((D12:D14)/($D15*3))*5)))} -> 3.3333333 | E16: {=MIN(6,SUM((((E12:E14)/($D15*3))*5)))} -> 0 | F16: {=MIN(6,SUM((((F12:F14)/($D15*3))*5)))} -> 0 | G16: {=MIN(6,SUM((((G12:G14)/($D15*3))*5)))} -> 0 | H16: {=MIN(6,SUM((((H12:H14)/($D15*3))*5)))} -> 0 | I16: {=MIN(6,SUM((((I12:I14)/($D15*3))*5)))} -> 0
B18: Communication | D18: Baseline assessment | E18: Period 1 | F18: Period 2 | G18: Period 3 | H18: Period 4 | I18: Period 5 | J18: Micro-enterprise threshold | K18: Small and medium enterprise threshold | L18: Large enterprise threshold
B19: 4. Does the enterprise communicate with their employees the important role of gender equality and diversity in its business processes and the reason for collecting gender-disaggregated data? | D19: 0 | J19: X | K19: X | L19: X
B20: 5. Does the enterprise inform its suppliers the reason for collecting gender-disaggregated data in its onboarding and evaluation processes? | D20: 0 | K20: X | L20: X
B21: No of threshold question | D21: {=_xlfn.IFS('2. Employee Info'!O19='2. Employee Info'!N20,J21,'2. Employee Info'!O19='2. Employee Info'!N21,K21,'2. Employee Info'!O19='2. Employee Info'!N22,L21)} -> 1 | J21: =COUNTA(J19:J20) -> 1 | K21: =COUNTA(K19:K20) -> 2 | L21: =COUNTA(L19:L20) -> 2
B22: Score | D22: {=MIN(6,SUM((((D19:D20)/($D21*3))*5)))} -> 0 | E22: {=MIN(6,SUM((((E19:E20)/($D21*3))*5)))} -> 0 | F22: {=MIN(6,SUM((((F19:F20)/($D21*3))*5)))} -> 0 | G22: {=MIN(6,SUM((((G19:G20)/($D21*3))*5)))} -> 0 | H22: {=MIN(6,SUM((((H19:H20)/($D21*3))*5)))} -> 0 | I22: {=MIN(6,SUM((((I19:I20)/($D21*3))*5)))} -> 0
B24: Implementation | D24: Baseline assessment | E24: Period 1 | F24: Period 2 | G24: Period 3 | H24: Period 4 | I24: Period 5 | J24: Micro-enterprise threshold | K24: Small and medium enterprise threshold | L24: Large enterprise threshold
B25: 6. Does the enterprise have a definition or align with an existing standard for defining women-owned companies that is clearly documented in policies or procedures? | D25: 0 | J25: X | K25: X | L25: X
B26: 7. Is there an individual assigned to measuring and reporting supplier performance that can be disaggregated by gender? | D26: 0 | K26: X | L26: X
B27: 8. Does the enterprise collect gender-disaggregated data as part of its supplier onboarding and monitoring process to improve performance? | D27: 0 | L27: X
B28: No of threshold question | D28: {=_xlfn.IFS('2. Employee Info'!O19='2. Employee Info'!N20,J28,'2. Employee Info'!O19='2. Employee Info'!N21,K28,'2. Employee Info'!O19='2. Employee Info'!N22,L28)} -> 1 | J28: =COUNTA(J25:J27) -> 1 | K28: =COUNTA(K25:K27) -> 2 | L28: =COUNTA(L25:L27) -> 3
B29: Score | D29: {=MIN(6,SUM((((D25:D27)/($D28*3))*5)))} -> 0 | E29: {=MIN(6,SUM((((E25:E27)/($D28*3))*5)))} -> 0 | F29: {=MIN(6,SUM((((F25:F27)/($D28*3))*5)))} -> 0 | G29: {=MIN(6,SUM((((G25:G27)/($D28*3))*5)))} -> 0 | H29: {=MIN(6,SUM((((H25:H27)/($D28*3))*5)))} -> 0 | I29: {=MIN(6,SUM((((I25:I27)/($D28*3))*5)))} -> 0
B31: Measurement | D31: Baseline assessment | E31: Period 1 | F31: Period 2 | G31: Period 3 | H31: Period 4 | I31: Period 5 | J31: Micro-enterprise threshold | K31: Small and medium enterprise threshold | L31: Large enterprise threshold
B32: 9. Does the enterprise track the amount of spend with each supplier? | D32: 3 | J32: X | K32: X | L32: X
B33: 10. Does the enterprise commit to collecting gender-disaggregated data to promote gender equality and diversity in its supply chains? | D33: 1 | K33: X | L33: X
B34: 11. Does the enterprise have metrics and reporting mechanisms on gender equality and women’s empowerment across the supply chain? | D34: 1
B35: No of threshold question | D35: {=_xlfn.IFS('2. Employee Info'!O19='2. Employee Info'!N20,J35,'2. Employee Info'!O19='2. Employee Info'!N21,K35,'2. Employee Info'!O19='2. Employee Info'!N22,L35)} -> 1 | J35: =COUNTA(J32:J34) -> 1 | K35: =COUNTA(K32:K34) -> 2 | L35: =COUNTA(L32:L34) -> 2
B36: Score | D36: {=MIN(6,SUM((((D32:D34)/($D35*3))*5)))} -> 6 | E36: {=MIN(6,SUM((((E32:E34)/($D35*3))*5)))} -> 0 | F36: {=MIN(6,SUM((((F32:F34)/($D35*3))*5)))} -> 0 | G36: {=MIN(6,SUM((((G32:G34)/($D35*3))*5)))} -> 0 | H36: {=MIN(6,SUM((((H32:H34)/($D35*3))*5)))} -> 0 | I36: {=MIN(6,SUM((((I32:I34)/($D35*3))*5)))} -> 0
B38: Accountability and Transparency | D38: Baseline assessment | E38: Period 1 | F38: Period 2 | G38: Period 3 | H38: Period 4 | I38: Period 5 | J38: Micro-enterprise threshold | K38: Small and medium enterprise threshold | L38: Large enterprise threshold
B39: 12. Is there an individual responsible for collecting gender-disaggregated data to promote gender equality and diversity in its supply chains? | D39: 0 | J39: X | K39: X | L39: X
B40: 13. Does the enterprise report publicly on the percentage of expenditures spent with women-owned or women-led enterprises? | D40: 1 | L40: X
B41: 14. Does the enterprise report to the Board on the percentage spent with women-owned or women-led enterprises? | D41: 0 | K41: X | L41: X
B42: 15. Does the enterprise use gender-disaggregated data and information to assess performance and develop appropriate, evidence-based responses and gender-focused procurement policies to improve women’s economic empowerment in its supply chains? | D42: 0 | L42: X
B43: No of threshold question | D43: {=_xlfn.IFS('2. Employee Info'!O19='2. Employee Info'!N20,J43,'2. Employee Info'!O19='2. Employee Info'!N21,K43,'2. Employee Info'!O19='2. Employee Info'!N22,L43)} -> 1 | J43: =COUNTA(J39:J42) -> 1 | K43: =COUNTA(K39:K42) -> 2 | L43: =COUNTA(L39:L42) -> 4
B44: Score | D44: {=MIN(6,SUM((((D39:D42)/($D43*3))*5)))} -> 1.6666667 | E44: {=MIN(6,SUM((((E39:E42)/($D43*3))*5)))} -> 0 | F44: {=MIN(6,SUM((((F39:F42)/($D43*3))*5)))} -> 0 | G44: {=MIN(6,SUM((((G39:G42)/($D43*3))*5)))} -> 0 | H44: {=MIN(6,SUM((((H39:H42)/($D43*3))*5)))} -> 0 | I44: {=MIN(6,SUM((((I39:I42)/($D43*3))*5)))} -> 0
B46: Total Score | D46: =AVERAGE(D44,D36,D29,D22,D16) -> 2.2 | E46: =AVERAGE(E44,E36,E29,E22,E16) -> 0 | F46: =AVERAGE(F44,F36,F29,F22,F16) -> 0 | G46: =AVERAGE(G44,G36,G29,G22,G16) -> 0 | H46: =AVERAGE(H44,H36,H29,H22,H16) -> 0 | I46: =AVERAGE(I44,I36,I29,I22,I16) -> 0

Sheet 7. Disagg Data Value Chains
A2: 18 | B2: Gender-disaggregated data in value chains
B3: Instruction: The indicator is assessed on the basis of the 5 dimensions of Commitment, Communication, Implementation, Measurement and Accountability and Transparency. A minimum threshold is set for each dimension assigned for micros, small and medium, and large enterprises. Each question has been provided with the following response options depending on the demonstration of policy and practice.
B4: Answer key | C4: Description
B5: 0 | C5: No
B6: 1 | C6: Informal/ad-hoc/in draft
B7: 2 | C7: Adopted but not fully implemented or operationalised
B8: 3 | C8: Fully operationalised and systematically done
B10: The following guide questions can be used to identify business policies and practices that use gender disaggregated data in an enterprise’s customer base to address women’s needs for products and services. Practitioners should use appropriate judgment in determining suitable questions in view of local contexts and global aspirations.
B11: Commitment | D11: Baseline assessment | E11: Period 1 | F11: Period 2 | G11: Period 3 | H11: Period 4 | I11: Period 5 | J11: Micro-enterprise threshold | K11: Small and medium enterprise threshold | L11: Large enterprise threshold
B12: 1. Does the enterprise have a policy to collect data on its customers to inform product and service development and delivery? | D12: 3 | J12: X | K12: X | L12: X
B13: 2. Does the enterprise collect gender-disaggregated data on its customers to inform targeted customer experience? | D13: 2 | K13: X | L13: X
B14: No of threshold question | D14: {=_xlfn.IFS('2. Employee Info'!O19='2. Employee Info'!N20,I14,'2. Employee Info'!O19='2. Employee Info'!N21,J14,'2. Employee Info'!O19='2. Employee Info'!N22,K14)} -> 0 | J14: =COUNTA(J12:J13) -> 1 | K14: =COUNTA(K12:K13) -> 2 | L14: =COUNTA(L12:L13) -> 2
B15: Score | D15: {=MIN(6,SUM((((D12:D13)/($D14*3))*5)))} -> #DIV/0! | E15: {=MIN(6,SUM((((E12:E13)/($D14*3))*5)))} -> #DIV/0! | F15: {=MIN(6,SUM((((F12:F13)/($D14*3))*5)))} -> #DIV/0! | G15: {=MIN(6,SUM((((G12:G13)/($D14*3))*5)))} -> #DIV/0! | H15: {=MIN(6,SUM((((H12:H13)/($D14*3))*5)))} -> #DIV/0! | I15: {=MIN(6,SUM((((I12:I13)/($D14*3))*5)))} -> #DIV/0!
B17: Communication | D17: Baseline assessment | E17: Period 1 | F17: Period 2 | G17: Period 3 | H17: Period 4 | I17: Period 5 | J17: Micro-enterprise threshold | K17: Small and medium enterprise threshold | L17: Large enterprise threshold
B18: 3. Does the enterprise communicate the value of collecting gender-disaggregated customer data to its employees and stakeholders? | D18: 2 | J18: X | K18: X | L18: X
B19: 4. Does the enterprise communicate with its customers to gather gender-disaggregated data to provide better products and services? | D19: 2 | J19: X | K19: X | L19: X
B20: No of threshold question | D20: {=_xlfn.IFS('2. Employee Info'!O19='2. Employee Info'!N20,I20,'2. Employee Info'!O19='2. Employee Info'!N21,J20,'2. Employee Info'!O19='2. Employee Info'!N22,K20)} -> 0 | J20: =COUNTA(J18:J19) -> 2 | K20: =COUNTA(K18:K19) -> 2 | L20: =COUNTA(L18:L19) -> 2
B21: Score | D21: {=MIN(6,SUM((((D18:D19)/($D20*3))*5)))} -> #DIV/0! | E21: {=MIN(6,SUM((((E18:E19)/($D20*3))*5)))} -> #DIV/0! | F21: {=MIN(6,SUM((((F18:F19)/($D20*3))*5)))} -> #DIV/0! | G21: {=MIN(6,SUM((((G18:G19)/($D20*3))*5)))} -> #DIV/0! | H21: {=MIN(6,SUM((((H18:H19)/($D20*3))*5)))} -> #DIV/0! | I21: {=MIN(6,SUM((((I18:I19)/($D20*3))*5)))} -> #DIV/0!
B23: Implementation | D23: Baseline assessment | E23: Period 1 | F23: Period 2 | G23: Period 3 | H23: Period 4 | I23: Period 5 | J23: Micro-enterprise threshold | K23: Small and medium enterprise threshold | L23: Large enterprise threshold
B24: 5. Does the enterprise use customer satisfaction surveys to develop better products using a gender lens? For example, improving products/services based on prevalent feedback from women customers or flagging customer feedback that might encourage gender biases | D24: 1 | J24: X | K24: X | L24: X
B25: 6. Does the enterprise invest in resources to measure and report gender-disaggregated data and conduct gender analysis? | D25: 2 | K25: X | L25: X
B26: No of threshold question | D26: {=_xlfn.IFS('2. Employee Info'!O19='2. Employee Info'!N20,I26,'2. Employee Info'!O19='2. Employee Info'!N21,J26,'2. Employee Info'!O19='2. Employee Info'!N22,K26)} -> 0 | J26: =COUNTA(J24:J25) -> 1 | K26: =COUNTA(K24:K25) -> 2 | L26: =COUNTA(L24:L25) -> 2
B27: Score | D27: {=MIN(6,SUM((((D24:D25)/($D26*3))*5)))} -> #DIV/0!
B29: Measurement | D29: Baseline assessment | E29: Period 1 | F29: Period 2 | G29: Period 3 | H29: Period 4 | I29: Period 5 | J29: Micro-enterprise threshold | K29: Small and medium enterprise threshold | L29: Large enterprise threshold
B30: 7. Does the enterprise have targets for key metrics and reporting mechanisms on gender disaggregated data including customer surveys? | D30: 2 | J30: X | K30: X | L30: X
B31: No of threshold question | D31: {=_xlfn.IFS('2. Employee Info'!O19='2. Employee Info'!N20,I31,'2. Employee Info'!O19='2. Employee Info'!N21,J31,'2. Employee Info'!O19='2. Employee Info'!N22,K31)} -> 0 | J31: =COUNTA(J30) -> 1 | K31: =COUNTA(K30) -> 1 | L31: =COUNTA(L30) -> 1
B32: Score | D32: =MIN(6,SUM((((D30)/($D31*3))*5))) -> #DIV/0!
B34: Accountability and Transparency | D34: Baseline assessment | E34: Period 1 | F34: Period 2 | G34: Period 3 | H34: Period 4 | I34: Period 5 | J34: Micro-enterprise threshold | K34: Small and medium enterprise threshold | L34: Large enterprise threshold
B35: 8. Does the enterprise use gender-disaggregated data and information to formulate business strategies to build competitive advantage? | D35: 2 | J35: X | K35: X | L35: X
B36: 9. Is there an individual responsible for collecting and analysing gender-disaggregated data? | D36: 3 | J36: X | K36: X | L36: X
B37: 10. Does the enterprise use gender-disaggregated data and information to assess performance and develop appropriate, evidence-based responses and policies? | D37: 2 | K37: X | L37: X
B38: No of threshold question | D38: {=_xlfn.IFS('2. Employee Info'!O19='2. Employee Info'!N20,I38,'2. Employee Info'!O19='2. Employee Info'!N21,J38,'2. Employee Info'!O19='2. Employee Info'!N22,K38)} -> 0 | J38: =COUNTA(J35:J37) -> 2 | K38: =COUNTA(K35:K37) -> 3 | L38: =COUNTA(L35:L37) -> 3
B39: Score | D39: {=MIN(6,SUM((((D35:D37)/($D38*3))*5)))} -> #DIV/0! | E39: {=MIN(6,SUM((((E35:E37)/($D38*3))*5)))} -> #DIV/0! | F39: {=MIN(6,SUM((((F35:F37)/($D38*3))*5)))} -> #DIV/0! | G39: {=MIN(6,SUM((((G35:G37)/($D38*3))*5)))} -> #DIV/0! | H39: {=MIN(6,SUM((((H35:H37)/($D38*3))*5)))} -> #DIV/0! | I39: {=MIN(6,SUM((((I35:I37)/($D38*3))*5)))} -> #DIV/0!
B41: Total Score | D41: =AVERAGE(D39,D32,D27,D21,D15) -> #DIV/0! | E41: =AVERAGE(E39,E32,E27,E21,E15) -> #DIV/0! | F41: =AVERAGE(F39,F32,F27,F21,F15) -> #DIV/0! | G41: =AVERAGE(G39,G32,G27,G21,G15) -> #DIV/0! | H41: =AVERAGE(H39,H32,H27,H21,H15) -> #DIV/0! | I41: =AVERAGE(I39,I32,I27,I21,I15) -> #DIV/0!
B43: Total Bonus Questions | J43: 3 | K43: 0 | L43: 0

Sheet 8. Climate risks
A2: 22 | B2: Addressing climate risks
B3: Instruction: The indicator is assessed on the basis of the 5 dimensions of Commitment, Communication, Implementation, Measurement and Accountability and Transparency. A minimum threshold is set for each dimension assigned for micros, small and medium, and large enterprises. Each question has been provided with the following response options depending on the demonstration of policy and practice.
B4: Answer key | C4: Description
B5: 0 | C5: No
B6: 1 | C6: Informal/ad-hoc/in draft
B7: 2 | C7: Adopted but not fully implemented or operationalised
B8: 3 | C8: Fully operationalised and systematically done
B10: The following guide questions can be used to identify business policies and practices with respect to gendered approach to address climate risks. Practitioners should use appropriate judgment in determining the suitable questions in view of local contexts and global aspirations.
B11: Commitment | D11: Baseline assessment | E11: Period 1 | F11: Period 2 | G11: Period 3 | H11: Period 4 | I11: Period 5 | J11: Micro-enterprise threshold | K11: Small and medium enterprise threshold | L11: Large enterprise threshold
B12: 1. Does the enterprise evaluate the effects of its operations on the environment including the sustainable use and sourcing of materials, energy and water? | D12: 3 | J12: X | K12: X | L12: X
B13: 2. Has the enterprise NOT been cited for any environmental violations? A "No" answer means scoring of allotted point. | D13: 3 | J13: X | K13: X | L13: X
B14: 3. Does the enterprise comply with existing environmental policy and undertake initiatives beyond what is required by laws and regulations? Environmental policy refers to the policy framework adopted by an organisation to ensure that environmental laws, regulations, and additional policy mechanisms such as the Taskforce on Climate-Related Disclosures (TFCD) recommendations are fully integrated into its operations. These issues generally include climate mitigation and adaptation, air and water pollution, solid waste management, biodiversity, ecosystem management, maintenance of biodiversity, and the protection of natural resources, wildlife and endangered species. | D14: 2 | K14: X | L14: X
B15: No of threshold question | D15: {=_xlfn.IFS('2. Employee Info'!O19='2. Employee Info'!N20,J15,'2. Employee Info'!O19='2. Employee Info'!N21,K15,'2. Employee Info'!O19='2. Employee Info'!N22,L15)} -> 2 | J15: =COUNTA(J12:J14) -> 2 | K15: =COUNTA(K12:K14) -> 3 | L15: =COUNTA(L12:L14) -> 3
B16: Score | D16: {=MIN(6,SUM(((D12:D14)/($D$15*3))*5))} -> 6 | E16: {=MIN(6,SUM((((E12:E14)/($D15*3))*5)))} -> 0 | F16: {=MIN(6,SUM((((F12:F14)/($D15*3))*5)))} -> 0 | G16: {=MIN(6,SUM((((G12:G14)/($D15*3))*5)))} -> 0 | H16: {=MIN(6,SUM((((H12:H14)/($D15*3))*5)))} -> 0 | I16: {=MIN(6,SUM((((I12:I14)/($D15*3))*5)))} -> 0
B18: Communication | D18: Baseline assessment | E18: Period 1 | F18: Period 2 | G18: Period 3 | H18: Period 4 | I18: Period 5 | J18: Micro-enterprise threshold | K18: Small and medium enterprise threshold | L18: Large enterprise threshold
B19: 4. Does the enterprise communicate its climate policy and outcomes to all employees, suppliers, and other stakeholders? | D19: 1 | J19: X | K19: X | L19: X
B20: No of threshold question | D20: {=_xlfn.IFS('2. Employee Info'!O19='2. Employee Info'!N20,J20,'2. Employee Info'!O19='2. Employee Info'!N21,K20,'2. Employee Info'!O19='2. Employee Info'!N22,L20)} -> 1 | J20: =COUNTA(J19) -> 1 | K20: =COUNTA(K19) -> 1 | L20: =COUNTA(L19) -> 1
B21: Score | D21: =MIN(6,SUM(((D19)/($D$20*3))*5)) -> 1.6666667 | E21: =MIN(6,SUM(((E19)/($D$20*3))*5)) -> 0 | F21: =MIN(6,SUM(((F19)/($D$20*3))*5)) -> 0 | G21: =MIN(6,SUM(((G19)/($D$20*3))*5)) -> 0 | H21: =MIN(6,SUM(((H19)/($D$20*3))*5)) -> 0 | I21: =MIN(6,SUM(((I19)/($D$20*3))*5)) -> 0
B23: Implementation | D23: Baseline assessment | E23: Period 1 | F23: Period 2 | G23: Period 3 | H23: Period 4 | I23: Period 5 | J23: Micro-enterprise threshold | K23: Small and medium enterprise threshold | L23: Large enterprise threshold
B24: 5. Does the enterprise practise waste management and recycling in its operations? | D24: 2 | J24: X | K24: X | L24: X
B25: 6. Does the enterprise pursue energy efficiency projects such as using LED, smart meter, electric vehicle fleet and other energy saving devices? | D25: 2 | K25: X | L25: X
B26: 7. Does the enterprise have a policy to continuously assess climate risks regarding its potential adverse impact on the health and well-being of employees, its customers and/or the population in the area where it operates, as well as mitigation plans, especially those that will disproportionately have negative effects on women? | D26: 3 | K26: X | L26: X
B27: 8. Does the enterprise include climate considerations in ongoing business interactions with suppliers? | D27: 1 | K27: X | L27: X
B28: 9. How do the enterprise’s products or services affect climate and environmental sustainability (contributing to mitigation, adaptation, resilience or just transition)? | D28: 1 | L28: X
B29: 10. Does the enterprise encourage its employees to contribute to climate action and provide the necessary training? | D29: 1 | L29: X
B30: 11. Does the enterprise improve its access to technology to attain energy efficiency and co-benefits as part of its decarbonised action plan? | D30: 1
B31: 12. Does the enterprise initiate dialogue with selected suppliers to understand their current or planned climate goals and encourage them to halve emissions before 2030 and achieve net zero emissions before 2050, as part of their engagement? | D31: 1
B32: No of threshold question | D32: {=_xlfn.IFS('2. Employee Info'!O19='2. Employee Info'!N20,J32,'2. Employee Info'!O19='2. Employee Info'!N21,K32,'2. Employee Info'!O19='2. Employee Info'!N22,L32)} -> 1 | J32: =COUNTA(J24:J31) -> 1 | K32: =COUNTA(K24:K31) -> 4 | L32: =COUNTA(L24:L31) -> 6
B33: Score | D33: {=MIN(6,SUM(((D24:D31)/($D$32*3))*5))} -> 6 | E33: {=MIN(6,SUM(((E24:E31)/($D$32*3))*5))} -> 0 | F33: {=MIN(6,SUM(((F24:F31)/($D$32*3))*5))} -> 0 | G33: {=MIN(6,SUM(((G24:G31)/($D$32*3))*5))} -> 0 | H33: {=MIN(6,SUM(((H24:H31)/($D$32*3))*5))} -> 0 | I33: {=MIN(6,SUM(((I24:I31)/($D$32*3))*5))} -> 0
B35: Measurement | D35: Baseline assessment | E35: Period 1 | F35: Period 2 | G35: Period 3 | H35: Period 4 | I35: Period 5 | J35: Micro-enterprise threshold | K35: Small and medium enterprise threshold | L35: Large enterprise threshold
B36: 13. Does the enterprise set goals and measure the progress of its energy efficiency, recycling and waste management projects? | D36: 1 | J36: X | K36: X | L36: X
B37: 15. Does the enterprise identify, assess and manage its climate risks e.g. physical and transition risks? | D37: 1 | L37: X
B38: 15. Does the enterprise track its GHG emissions and progress against targets for accountability and tracking? | D38: 1
B39: 16. Does the enterprise align performance targets and bonuses with environmental and sustainability performance indicators? | D39: 1
B40: 17. Does the enterprise measure the emissions of employees when they are working remotely at home or outside the office? | D40: 1
B41: No of threshold question | D41: {=_xlfn.IFS('2. Employee Info'!O19='2. Employee Info'!N20,J41,'2. Employee Info'!O19='2. Employee Info'!N21,K41,'2. Employee Info'!O19='2. Employee Info'!N22,L41)} -> 1 | J41: =COUNTA(J36:J40) -> 1 | K41: =COUNTA(K36:K40) -> 1 | L41: =COUNTA(L36:L40) -> 2
B42: Score | D42: {=MIN(6,SUM(((D36:D40)/($D$41*3))*5))} -> 6
B44: Accountability and Transparency | D44: Baseline assessment | E44: Period 1 | F44: Period 2 | G44: Period 3 | H44: Period 4 | I44: Period 5 | J44: Micro-enterprise threshold | K44: Small and medium enterprise threshold | L44: Large enterprise threshold
B45: 18. Has the enterprise set a climate or environmental strategy? | D45: 1 | J45: X | K45: X | L45: X
B46: 19. Is there an individual responsible for overseeing the implementation and monitoring of its environmental policies? | D46: 1 | J46: X | K46: X | L46: X
...

Sheet 9. Performance evaluation
A2: 10 | B2: Performance evaluation and progression
B3: Instruction: The indicator is assessed on the basis of the 5 dimensions of Commitment, Communication, Implementation, Measurement and Accountability and Transparency. A minimum threshold is set for each dimension assigned for micros, small and medium, and large enterprises. Each question has been provided with the following response options depending on the demonstration of policy and practice.
B4: Answer key | C4: Description
B5: 0 | C5: No
B6: 1 | C6: Informal/ad-hoc/in draft
B7: 2 | C7: Adopted but not fully implemented or operationalised
B8: 3 | C8: Fully operationalised and systematically done
B10: The following guide questions can be used to identify business policies and practices with respect to a gendered approach in performance evaluation and progression. Practitioners should use appropriate judgment in determining the suitable questions in view of local contexts and global aspirations.
B11: Commitment | D11: Baseline assessment | E11: Period 1 | F11: Period 2 | G11: Period 3 | H11: Period 4 | I11: Period 5 | J11: Micro-enterprise threshold | K11: Small and medium enterprise threshold | L11: Large enterprise threshold
B12: 1. Does the enterprise have clear criteria for rewards that are free of gender bias and link to the performance review process? | D12: 2 | J12: X | K12: X | L12: X
B13: 2. Does the enterprise exhibit transparency with regards to objectives, and have specific and clear evaluation criteria for performance evaluation and promotion? | D13: 2 | K13: X | L13: X
B14: No of threshold question | D14: {=_xlfn.IFS('2. Employee Info'!O19='2. Employee Info'!N20,'9. Performance evaluation'!J28,'2. Employee Info'!O19='2. Employee Info'!N21,'9. Performance evaluation'!K28,'2. Employee Info'!O19='2. Employee Info'!N22,'9. Performance evaluation'!L28)} -> 1 | J14: =COUNTA(J12:J13) -> 1 | K14: =COUNTA(K12:K13) -> 2 | L14: =COUNTA(L12:L13) -> 2
B15: Score | D15: {=MIN(6,SUM((((D12:D13)/(D28*3))*5)))} -> 6
B17: Communication | D17: Baseline assessment | E17: Period 1 | F17: Period 2 | G17: Period 3 | H17: Period 4 | I17: Period 5 | J17: Micro-enterprise threshold | K17: Small and medium enterprise threshold | L17: Large enterprise threshold
B18: 3. Does the enterprise highlight women as role models in internal and external communications? | D18: 1 | K18: X | L18: X
B19: 4. Does the enterprise clearly communicate performance criteria and set professional development goals at the beginning of the performance period? | D19: 2 | J19: X | K19: X | L19: X
B20: No of threshold question | D20: {=_xlfn.IFS('2. Employee Info'!O19='2. Employee Info'!N20,'9. Performance evaluation'!J20,'2. Employee Info'!O19='2. Employee Info'!N21,'9. Performance evaluation'!K20,'2. Employee Info'!O19='2. Employee Info'!N22,'9. Performance evaluation'!L20)} -> 1 | J20: =COUNTA(J18:J19) -> 1 | K20: =COUNTA(K18:K19) -> 2 | L20: =COUNTA(L18:L19) -> 2
B21: Score | D21: {=MIN(6,SUM((((D18:D19)/(D20*3))*5)))} -> 5
B23: Implementation | D23: Baseline assessment | E23: Period 1 | F23: Period 2 | G23: Period 3 | H23: Period 4 | I23: Period 5 | J23: Micro-enterprise threshold | K23: Small and medium enterprise threshold | L23: Large enterprise threshold
B24: 5. Does enterprise leadership actively and openly promote and encourage recruitment and promotion from diverse talent pools? | D24: 2 | K24: X | L24: X
B25: 6. Does the enterprise analyse potential gender biases in the evaluation and promotion process and conduct multiple evaluations by asking several people to evaluate individuals to have multiple data points and thereby encourage a broader perspective on performance, both of which reduce bias? | D25: 3 | J25: X | K25: X | L25: X
B26: 7. Does the enterprise provide unconscious bias training to people managers? | D26: 2 | K26: X | L26: X
B27: 8. Does the enterprise actively seek to balance women representation in managerial and senior-level positions to implement its gender equality and diversity policy? | D27: 2 | K27: X | L27: X
B28: No of threshold question | D28: {=_xlfn.IFS('2. Employee Info'!O19='2. Employee Info'!N20,'9. Performance evaluation'!J28,'2. Employee Info'!O19='2. Employee Info'!N21,'9. Performance evaluation'!K28,'2. Employee Info'!O19='2. Employee Info'!N22,'9. Performance evaluation'!L28)} -> 1 | J28: =COUNTA(J24:J27) -> 1 | K28: =COUNTA(K24:K27) -> 4 | L28: =COUNTA(L24:L27) -> 4
B29: Score | D29: {=MIN(6,SUM((((D26:D27)/(D28*3))*5)))} -> 6 | E29: {=MIN(6,SUM((((E26:E27)/($D28*3))*5)))} -> 0 | F29: {=MIN(6,SUM((((F26:F27)/($D28*3))*5)))} -> 0 | G29: {=MIN(6,SUM((((G26:G27)/($D28*3))*5)))} -> 0 | H29: {=MIN(6,SUM((((H26:H27)/($D28*3))*5)))} -> 0 | I29: {=MIN(6,SUM((((I26:I27)/($D28*3))*5)))} -> 0 | J29: {=MIN(6,SUM((((J26:J27)/($D28*3))*5)))} -> 0
B31: Measurement | D31: Baseline assessment | E31: Period 1 | F31: Period 2 | G31: Period 3 | H31: Period 4 | I31: Period 5 | J31: Micro-enterprise threshold | K31: Small and medium enterprise threshold | L31: Large enterprise threshold
B32: 9. Does the enterprise track evaluations and promotions by gender? | D32: 1 | J32: X | K32: X | L32: X
B33: 10. Does the enterprise review performance appraisals by gender and analyse any emerging biases and work to eliminate pro-male or pro-childless criteria and competencies? | D33: 0 | K33: X | L33: X
B34: No of threshold question | D34: {=_xlfn.IFS('2. Employee Info'!O19='2. Employee Info'!N20,'9. Performance evaluation'!J34,'2. Employee Info'!O19='2. Employee Info'!N21,'9. Performance evaluation'!K34,'2. Employee Info'!O19='2. Employee Info'!N22,'9. Performance evaluation'!L34)} -> 1 | J34: =COUNTA(J32:J33) -> 1 | K34: =COUNTA(K32:K33) -> 2 | L34: =COUNTA(L32:L33) -> 2
